BEGIN:VCALENDAR
VERSION:2.0
PRODID:-//Dairy Arts Center - ECPv6.15.20//NONSGML v1.0//EN
CALSCALE:GREGORIAN
METHOD:PUBLISH
X-WR-CALNAME:Dairy Arts Center
X-ORIGINAL-URL:https://thedairy.org
X-WR-CALDESC:Events for Dairy Arts Center
REFRESH-INTERVAL;VALUE=DURATION:PT1H
X-Robots-Tag:noindex
X-PUBLISHED-TTL:PT1H
BEGIN:VTIMEZONE
TZID:America/Denver
BEGIN:DAYLIGHT
TZOFFSETFROM:-0700
TZOFFSETTO:-0600
TZNAME:MDT
DTSTART:20250309T090000
END:DAYLIGHT
BEGIN:STANDARD
TZOFFSETFROM:-0600
TZOFFSETTO:-0700
TZNAME:MST
DTSTART:20251102T080000
END:STANDARD
BEGIN:DAYLIGHT
TZOFFSETFROM:-0700
TZOFFSETTO:-0600
TZNAME:MDT
DTSTART:20260308T090000
END:DAYLIGHT
BEGIN:STANDARD
TZOFFSETFROM:-0600
TZOFFSETTO:-0700
TZNAME:MST
DTSTART:20261101T080000
END:STANDARD
BEGIN:DAYLIGHT
TZOFFSETFROM:-0700
TZOFFSETTO:-0600
TZNAME:MDT
DTSTART:20270314T090000
END:DAYLIGHT
BEGIN:STANDARD
TZOFFSETFROM:-0600
TZOFFSETTO:-0700
TZNAME:MST
DTSTART:20271107T080000
END:STANDARD
END:VTIMEZONE
BEGIN:VEVENT
DTSTART;TZID=America/Denver:20260416T173000
DTEND;TZID=America/Denver:20260416T183000
DTSTAMP:20260420T125213
CREATED:20260327T213224Z
LAST-MODIFIED:20260327T213225Z
UID:10007865-1776360600-1776364200@thedairy.org
SUMMARY:Lisa Berley Art Reception at Embassy Suites
DESCRIPTION:TICKETS\nJoin us for an evening reception with Boulder-based visual artist and poet Lisa Berley\, celebrating a new body of work. \nThis exhibition showcases recent artworks from her series Neshama and her poetry manuscript finding Nefesh\, where painting\, collage\, and erasure text intersect. Rooted in processes of redaction and reconstruction\, Berley’s work reflects on grief\, memory\, and the possibility of connection beyond loss. \nDrawing on personal experience and spiritual symbolism—including references to Japanese komainu guardian figures—these works explore duality\, continuity\, and transformation through a quiet\, contemplative visual language. \nGuests are invited to view the exhibition\, meet the artist\, and enjoy drinks available from the Embassy Suites bar.
URL:https://thedairy.org/event/lisa-berley-art-reception-at-embassy-suites/
LOCATION:Embassy Suites\, 2601 Canyon Blvd\, Boulder\, CO\, 80302\, United States
CATEGORIES:Visual Arts
ATTACH;FMTTYPE=image/jpeg:https://media.thedairy.org/wp-content/uploads/2026/03/27153104/Lisa-Berley-Embassy-Suites.jpg
GEO:40.0181396;-105.2601925
X-APPLE-STRUCTURED-LOCATION;VALUE=URI;X-ADDRESS=Embassy Suites 2601 Canyon Blvd Boulder CO 80302 United States;X-APPLE-RADIUS=500;X-TITLE=2601 Canyon Blvd:geo:-105.2601925,40.0181396
END:VEVENT
END:VCALENDAR