BEGIN:VCALENDAR
VERSION:2.0
PRODID:-//Dairy Arts Center - ECPv6.15.20//NONSGML v1.0//EN
CALSCALE:GREGORIAN
METHOD:PUBLISH
X-ORIGINAL-URL:https://thedairy.org
X-WR-CALDESC:Events for Dairy Arts Center
REFRESH-INTERVAL;VALUE=DURATION:PT1H
X-Robots-Tag:noindex
X-PUBLISHED-TTL:PT1H
BEGIN:VTIMEZONE
TZID:America/Denver
BEGIN:DAYLIGHT
TZOFFSETFROM:-0700
TZOFFSETTO:-0600
TZNAME:MDT
DTSTART:20250309T090000
END:DAYLIGHT
BEGIN:STANDARD
TZOFFSETFROM:-0600
TZOFFSETTO:-0700
TZNAME:MST
DTSTART:20251102T080000
END:STANDARD
BEGIN:DAYLIGHT
TZOFFSETFROM:-0700
TZOFFSETTO:-0600
TZNAME:MDT
DTSTART:20260308T090000
END:DAYLIGHT
BEGIN:STANDARD
TZOFFSETFROM:-0600
TZOFFSETTO:-0700
TZNAME:MST
DTSTART:20261101T080000
END:STANDARD
BEGIN:DAYLIGHT
TZOFFSETFROM:-0700
TZOFFSETTO:-0600
TZNAME:MDT
DTSTART:20270314T090000
END:DAYLIGHT
BEGIN:STANDARD
TZOFFSETFROM:-0600
TZOFFSETTO:-0700
TZNAME:MST
DTSTART:20271107T080000
END:STANDARD
END:VTIMEZONE
BEGIN:VEVENT
DTSTART;TZID=America/Denver:20260327T203000
DTEND;TZID=America/Denver:20260327T220000
DTSTAMP:20260419T105514
CREATED:20260220T214223Z
LAST-MODIFIED:20260306T175832Z
UID:10007728-1774643400-1774648800@thedairy.org
SUMMARY:Youth Advisory Board: Lady Bird
DESCRIPTION:TICKETS\nAfter Ferris made skipping school look easy\, Lady Bird shows us a coming-of-age story from a sharper\, more complicated female perspective that we don’t always get from the genre. It’s funny\, awkward\, and painfully relatable\, diving into identity\, class\, friendship\, and the pressure to figure out who you are. The directorial debut of Greta Gerwig (who later made box office history with Barbie)\, Lady Bird it feels like the perfect March pick as we celebrate Women’s History Month. \nAbout the film: A fiercely independent teenager tries to make her own way in the world while wanting to get out of her hometown of Sacramento\, California\, and to get away from her complicated mother and recently-unemployed father. (Greta Gerwig\, 2017\, United States\, 1:34\, R) \n$7 Youth Tickets (25 & Under) | $14 Adults | $11 Students & Seniors | $7 Dairy Members
URL:https://thedairy.org/event/youth-advisory-board-lady-bird/
LOCATION:Boedecker Theater\, Walnut Street\, Boulder\, CO\, 80302\, United States
CATEGORIES:Cinema
ATTACH;FMTTYPE=application/pdf:https://media.thedairy.org/wp-content/uploads/2026/02/06105822/CYAB-Lady-Bird-1.pdf
GEO:40.0193115;-105.261067
X-APPLE-STRUCTURED-LOCATION;VALUE=URI;X-ADDRESS=Boedecker Theater Walnut Street Boulder CO 80302 United States;X-APPLE-RADIUS=500;X-TITLE=Walnut Street:geo:-105.261067,40.0193115
END:VEVENT
END:VCALENDAR