BEGIN:VCALENDAR
VERSION:2.0
PRODID:-//Dairy Arts Center - ECPv6.15.20//NONSGML v1.0//EN
CALSCALE:GREGORIAN
METHOD:PUBLISH
X-WR-CALNAME:Dairy Arts Center
X-ORIGINAL-URL:https://thedairy.org
X-WR-CALDESC:Events for Dairy Arts Center
REFRESH-INTERVAL;VALUE=DURATION:PT1H
X-Robots-Tag:noindex
X-PUBLISHED-TTL:PT1H
BEGIN:VTIMEZONE
TZID:America/Denver
BEGIN:DAYLIGHT
TZOFFSETFROM:-0700
TZOFFSETTO:-0600
TZNAME:MDT
DTSTART:20250309T090000
END:DAYLIGHT
BEGIN:STANDARD
TZOFFSETFROM:-0600
TZOFFSETTO:-0700
TZNAME:MST
DTSTART:20251102T080000
END:STANDARD
BEGIN:DAYLIGHT
TZOFFSETFROM:-0700
TZOFFSETTO:-0600
TZNAME:MDT
DTSTART:20260308T090000
END:DAYLIGHT
BEGIN:STANDARD
TZOFFSETFROM:-0600
TZOFFSETTO:-0700
TZNAME:MST
DTSTART:20261101T080000
END:STANDARD
BEGIN:DAYLIGHT
TZOFFSETFROM:-0700
TZOFFSETTO:-0600
TZNAME:MDT
DTSTART:20270314T090000
END:DAYLIGHT
BEGIN:STANDARD
TZOFFSETFROM:-0600
TZOFFSETTO:-0700
TZNAME:MST
DTSTART:20271107T080000
END:STANDARD
END:VTIMEZONE
BEGIN:VEVENT
DTSTART;TZID=America/Denver:20260806T190000
DTEND;TZID=America/Denver:20260806T203000
DTSTAMP:20260425T060834
CREATED:20260421T222522Z
LAST-MODIFIED:20260421T222523Z
UID:10007963-1786042800-1786048200@thedairy.org
SUMMARY:Boulder Ensemble Theatre Company (BETC): Witch
DESCRIPTION:Content is protected.
URL:https://thedairy.org/event/boulder-ensemble-theatre-company-betc-witch/2026-08-06/
LOCATION:Carsen Theater\, Walnut Street\, Boulder\, Colorado\, 80302\, United States
CATEGORIES:Theater
GEO:40.0193115;-105.261067
X-APPLE-STRUCTURED-LOCATION;VALUE=URI;X-ADDRESS=Carsen Theater Walnut Street Boulder Colorado 80302 United States;X-APPLE-RADIUS=500;X-TITLE=Walnut Street:geo:-105.261067,40.0193115
END:VEVENT
BEGIN:VEVENT
DTSTART;TZID=America/Denver:20260814T170000
DTEND;TZID=America/Denver:20260814T200000
DTSTAMP:20260425T060834
CREATED:20251215T231526Z
LAST-MODIFIED:20251215T231526Z
UID:10007503-1786726800-1786737600@thedairy.org
SUMMARY:Off the Page Exhibition Opening Reception
DESCRIPTION:On View Aug 14 – Nov 1 | Opening Reception: Aug 14\, 5 – 8 \nThis group exhibition explores how contemporary artists engage with the written word\, literature\, media\, and storytelling\, examining language as both subject and material. Through practices spanning photography\, sculpture\, installation\, and mixed media\, the exhibition asks: What does the word mean today\, and how are artists using language as a creative tool\, a source of inspiration\, or a physical presence within their work? \nThe exhibition considers the power of words to shape identity\, transmit knowledge\, and build community\, while also reflecting on the evolving role of language in a media-saturated world. It highlights the importance of literature\, freedom of expression\, and storytelling as vital forces that connect people across generations\, cultures\, and backgrounds. \nAccompanying the exhibition is a rich slate of educational and public programming\, developed in partnership with local libraries\, the school district\, and the University of Colorado. Programming will include author talks\, workshops\, and collaborative initiatives with nonprofit organizations focused on literacy and reading\, creating multiple entry points for audiences of all ages to engage with language\, ideas\, and creative expression. \nParticipating artists: Mariel Reed\, Nathan Storey Freeman\, Bug\, Josh Hughes\, Dagny Chika\, Dawn Siebel\, Leona Lazar\, Sarah Tenney\, Samuel Austin\, Lisa Berley\, Jacqueline Moulton\, Austin Baskett\, and Russell Schnell.
URL:https://thedairy.org/event/off-the-page-exhibition-opening-reception/
LOCATION:Dairy Arts Center\, Walnut Street\, Boulder\, CO\, 80302\, United States
CATEGORIES:Visual Arts
ATTACH;FMTTYPE=image/jpeg:https://media.thedairy.org/wp-content/uploads/2025/12/15161438/Dairy-Visual-Arts-Programming-2026-3.jpg
GEO:40.0193115;-105.261067
X-APPLE-STRUCTURED-LOCATION;VALUE=URI;X-ADDRESS=Dairy Arts Center Walnut Street Boulder CO 80302 United States;X-APPLE-RADIUS=500;X-TITLE=Walnut Street:geo:-105.261067,40.0193115
END:VEVENT
BEGIN:VEVENT
DTSTART;TZID=America/Denver:20260828T193000
DTEND;TZID=America/Denver:20260828T210000
DTSTAMP:20260425T060834
CREATED:20260220T154813Z
LAST-MODIFIED:20260221T234334Z
UID:10007726-1787945400-1787950800@thedairy.org
SUMMARY:BENISE 25 Years of Passion!
DESCRIPTION:TICKETS\nEmmy Award Winning Spanish Guitar and Dance Spectacular. \nIt’s one hot night as Benise\, “The Prince of Spanish Guitar\,” celebrates 25 years of fiery Spanish guitar and dance. \nArmed with his Spanish guitar and a stage full of musicians and elaborately choreographed dancers\, Benise takes the audience on a musical journey through Spanish Flamenco\, Cuban Salsa\, Brazilian Samba\, Parisian Waltz\, exotic drumming\, and more! \nBenise (pronounced Buh-nes-say) shattered the mold of Spanish guitar by combining world music and dance – the only show of its kind! \nThe 25th Anniversary tour establishes Benise’s Emmy Award winning show as one of the longest running Latin-themed theatrical productions touring the world. \nFor Benise\, music has always been a journey. From his humble beginnings as a street performer\, to being featured on the #1 rated show in the USA – Dancing With The Stars. Guitarist and creative force behind the event\, Benise\, comments “I wanted to push the boundaries of Nuevo Flamenco/Spanish guitar while combining the elements of dance and theater. This show is a celebration of all the shows we’ve done over the last 25 years.”
URL:https://thedairy.org/event/benise-25-years-of-passion/
LOCATION:Gordon Gamm Theater\, Walnut Street\, Boulder\, CO\, 80302\, United States
CATEGORIES:Music
ATTACH;FMTTYPE=image/jpeg:https://media.thedairy.org/wp-content/uploads/2026/02/21164236/Benise_25th_anniv_web-1080-x-1350.jpg
GEO:40.0193115;-105.261067
X-APPLE-STRUCTURED-LOCATION;VALUE=URI;X-ADDRESS=Gordon Gamm Theater Walnut Street Boulder CO 80302 United States;X-APPLE-RADIUS=500;X-TITLE=Walnut Street:geo:-105.261067,40.0193115
END:VEVENT
BEGIN:VEVENT
DTSTART;TZID=America/Denver:20260917T190000
DTEND;TZID=America/Denver:20260917T213000
DTSTAMP:20260425T060834
CREATED:20260421T213230Z
LAST-MODIFIED:20260422T222837Z
UID:10007950-1789671600-1789680600@thedairy.org
SUMMARY:Motus Theater Presents: No Contract by Kirsten Wilson
DESCRIPTION:TICKETS\n \n“No Contract” is a one-woman show exploring a mother’s request not to endure dementia. It asks: “is there a way to have dementia without tragedy\, when ‘to be or not to be’ is always the question?” \nCreated by Kirsten Wilson in honor of her mother and loved ones everywhere\, experiencing or caring for people with dementia. \n“No Contract” is a one-woman show by Kirsten Wilson about her mother’s dementia –Marie Wilson\, founder of ‘Take Our Daughters to Work Day\,’ LGBTQ+ leader\, author\, and equity-based feminist. \nThe dramatic ‘contract’ at the heart of this two-act performance is her mother’s request to be killed if she loses her mind. The production blends autobiographical storytelling\, “Hamlet\,” “King Lear\,” karaoke\, and audience engagement to explore the complex tension between choosing life and death—the “to be and not to be” of assisted suicide after a dementia diagnosis. \nIn “No Contract\,” Wilson uses humor & heart to prevent both the performance & her mother’s life from becoming a Lear-like tragedy. As Wilson says in Act One\, “My mother’s life was always supposed to be a romantic comedy\, a 1950’s musical\, except with lesbians dancing in the street. I will not let it turn toward tragedy.” \n*Note Wednesday\, 9/30/26 is a show for immunocompromised people. This show provides the following: Audience capacity is at 30% to provide space for two empty seats between audience members. KN95 masks must be worn by performers and audience members. Air filtration used. 6 feet of space between performers and front row. 6pm performance. See separate Dairy ticketing page to signup. \n**Note Saturday\, 10/3/26 is an all-day workshop and performance: \nSaturday\, Oct. 3rd\, “No Contract” Dementia\, Reflection and Writing Workshop with Kirsten Wilson. Take a day-long deep dive into the impact of caring for family members with dementia or negotiating your own fears of losing your mind with celebrated facilitator and artist Kirsten Wilson. This is an opportunity to gather in community to use the performance to launch your own reflections and writings on the impact of dementia and fears associated with aging. The morning will begin with a performance of Act I\, followed by personal reflections\, writing and discussion on dementia. After a shared lunch within small reflections groups\, a performance of Act II\, with a facilitated dialogue\, writing exercises and reflections. No skill as a writer necessary\, just willingness to courageously explore caregiving\, our mortality\, and dementia in community. (Lunch included in workshop fee). See separate ticketing page to sign up. \n  \n 
URL:https://thedairy.org/event/motus-theater-presents-no-contract-by-kirsten-wilson-2/2026-09-17/
LOCATION:Carsen Theater\, Walnut Street\, Boulder\, Colorado\, 80302\, United States
CATEGORIES:Theater
ATTACH;FMTTYPE=image/png:https://media.thedairy.org/wp-content/uploads/2026/04/21152944/No-Contract-2026-IG-Size.png
GEO:40.0193115;-105.261067
X-APPLE-STRUCTURED-LOCATION;VALUE=URI;X-ADDRESS=Carsen Theater Walnut Street Boulder Colorado 80302 United States;X-APPLE-RADIUS=500;X-TITLE=Walnut Street:geo:-105.261067,40.0193115
END:VEVENT
BEGIN:VEVENT
DTSTART;TZID=America/Denver:20261008T190000
DTEND;TZID=America/Denver:20261008T203000
DTSTAMP:20260425T060834
CREATED:20260422T175107Z
LAST-MODIFIED:20260422T175107Z
UID:10007976-1791486000-1791491400@thedairy.org
SUMMARY:Boulder Ensemble Theatre Company (BETC): The Weir | Oct. 8 - Nov. 1
DESCRIPTION:Content is protected.
URL:https://thedairy.org/event/boulder-ensemble-theatre-company-betc-the-weir-oct-8-nov-1/2026-10-08/
LOCATION:Carsen Theater\, Walnut Street\, Boulder\, Colorado\, 80302\, United States
CATEGORIES:Theater
GEO:40.0193115;-105.261067
X-APPLE-STRUCTURED-LOCATION;VALUE=URI;X-ADDRESS=Carsen Theater Walnut Street Boulder Colorado 80302 United States;X-APPLE-RADIUS=500;X-TITLE=Walnut Street:geo:-105.261067,40.0193115
END:VEVENT
BEGIN:VEVENT
DTSTART;TZID=America/Denver:20261113T170000
DTEND;TZID=America/Denver:20261113T200000
DTSTAMP:20260425T060834
CREATED:20251215T231841Z
LAST-MODIFIED:20251215T231841Z
UID:10007504-1794589200-1794600000@thedairy.org
SUMMARY:The Human Animal Exhibition Opening Reception
DESCRIPTION:Nov 13 – Jan 31 | Opening Reception: Nov 13\, 5 – 8 \nThis exhibition explores how conceptual artists use imagery of animals\, creatures\, and “the other” to reflect on human nature and the breadth of human experience. Through large-scale installations and sweeping conceptual works\, the exhibition examines the symbolic power of the nonhuman as a mirror through which social\, political\, and psychological realities are revealed. \nFocusing on the figure of the animal—and the idea of the “human as other”—the exhibition interrogates themes of aggression\, dominance\, fear\, and control\, questioning the often false or ironic divide drawn between humanity and the natural world. What we project onto animals and imagined creatures frequently exposes our own instincts\, anxieties\, and contradictions\, revealing how closely intertwined human behavior is with the forces we claim to stand apart from. \nServing as a launching point for dialogue around American legacy\, the exhibition opens space for conversation on politics\, history\, and contemporary cultural and social issues. By situating animal imagery within broader conceptual frameworks\, the works challenge viewers to reconsider narratives of power\, violence\, and belonging\, and to reflect on what it means to be human in relation to the world we inhabit. \nParticipating artists: Jessica Teckermeyer\, Michael Brohman\, Tricia Waddel\, Xan McKenna\, Bailey Anderson\, Creative Nations
URL:https://thedairy.org/event/the-human-animal-exhibition-opening-reception/
LOCATION:Dairy Arts Center\, Walnut Street\, Boulder\, CO\, 80302\, United States
CATEGORIES:Visual Arts
ATTACH;FMTTYPE=image/jpeg:https://media.thedairy.org/wp-content/uploads/2025/12/15161715/Dairy-Visual-Arts-Programming-2026-4.jpg
GEO:40.0193115;-105.261067
X-APPLE-STRUCTURED-LOCATION;VALUE=URI;X-ADDRESS=Dairy Arts Center Walnut Street Boulder CO 80302 United States;X-APPLE-RADIUS=500;X-TITLE=Walnut Street:geo:-105.261067,40.0193115
END:VEVENT
BEGIN:VEVENT
DTSTART;TZID=America/Denver:20261204T190000
DTEND;TZID=America/Denver:20261204T210000
DTSTAMP:20260425T060834
CREATED:20260422T225059Z
LAST-MODIFIED:20260422T225100Z
UID:10007993-1796410800-1796418000@thedairy.org
SUMMARY:Boulder Ensemble Theatre Company (BETC): The Fair Maid of the West | Dec. 3-27
DESCRIPTION:Content is protected.
URL:https://thedairy.org/event/boulder-ensemble-theatre-company-betc-the-fair-maid-of-the-west-dec-3-27/2026-12-04/
LOCATION:Grace Gamm Theatre\, Walnut Street\, Boulder\, CO\, 80302\, United States
CATEGORIES:Theater
GEO:40.0193115;-105.261067
X-APPLE-STRUCTURED-LOCATION;VALUE=URI;X-ADDRESS=Grace Gamm Theatre Walnut Street Boulder CO 80302 United States;X-APPLE-RADIUS=500;X-TITLE=Walnut Street:geo:-105.261067,40.0193115
END:VEVENT
BEGIN:VEVENT
DTSTART;TZID=America/Denver:20261231T070000
DTEND;TZID=America/Denver:20261231T210000
DTSTAMP:20260425T060834
CREATED:20260423T202649Z
LAST-MODIFIED:20260423T202650Z
UID:10008027-1798700400-1798750800@thedairy.org
SUMMARY:Boulder Ensemble Theatre Company (BETC): New Year's Eve Spectacular
DESCRIPTION:Content is protected.
URL:https://thedairy.org/event/boulder-ensemble-theatre-company-betc-new-years-eve-spectacular/
LOCATION:Gordon Gamm Theater\, Walnut Street\, Boulder\, CO\, 80302\, United States
CATEGORIES:Theater
GEO:40.0193115;-105.261067
X-APPLE-STRUCTURED-LOCATION;VALUE=URI;X-ADDRESS=Gordon Gamm Theater Walnut Street Boulder CO 80302 United States;X-APPLE-RADIUS=500;X-TITLE=Walnut Street:geo:-105.261067,40.0193115
END:VEVENT
END:VCALENDAR