BEGIN:VCALENDAR
VERSION:2.0
PRODID:-//Dairy Arts Center - ECPv6.15.20//NONSGML v1.0//EN
CALSCALE:GREGORIAN
METHOD:PUBLISH
X-ORIGINAL-URL:https://thedairy.org
X-WR-CALDESC:Events for Dairy Arts Center
REFRESH-INTERVAL;VALUE=DURATION:PT1H
X-Robots-Tag:noindex
X-PUBLISHED-TTL:PT1H
BEGIN:VTIMEZONE
TZID:America/Denver
BEGIN:DAYLIGHT
TZOFFSETFROM:-0700
TZOFFSETTO:-0600
TZNAME:MDT
DTSTART:20250309T090000
END:DAYLIGHT
BEGIN:STANDARD
TZOFFSETFROM:-0600
TZOFFSETTO:-0700
TZNAME:MST
DTSTART:20251102T080000
END:STANDARD
BEGIN:DAYLIGHT
TZOFFSETFROM:-0700
TZOFFSETTO:-0600
TZNAME:MDT
DTSTART:20260308T090000
END:DAYLIGHT
BEGIN:STANDARD
TZOFFSETFROM:-0600
TZOFFSETTO:-0700
TZNAME:MST
DTSTART:20261101T080000
END:STANDARD
BEGIN:DAYLIGHT
TZOFFSETFROM:-0700
TZOFFSETTO:-0600
TZNAME:MDT
DTSTART:20270314T090000
END:DAYLIGHT
BEGIN:STANDARD
TZOFFSETFROM:-0600
TZOFFSETTO:-0700
TZNAME:MST
DTSTART:20271107T080000
END:STANDARD
END:VTIMEZONE
BEGIN:VEVENT
DTSTART;TZID=America/Denver:20261008T190000
DTEND;TZID=America/Denver:20261008T203000
DTSTAMP:20260423T055036
CREATED:20260422T175107Z
LAST-MODIFIED:20260422T175107Z
UID:10007976-1791486000-1791491400@thedairy.org
SUMMARY:Boulder Ensemble Theatre Company (BETC): The Weir | Oct. 8 - Nov. 1
DESCRIPTION:Content is protected.
URL:https://thedairy.org/event/boulder-ensemble-theatre-company-betc-the-weir-oct-8-nov-1/2026-10-08/
LOCATION:Carsen Theater\, Walnut Street\, Boulder\, Colorado\, 80302\, United States
CATEGORIES:Theater
GEO:40.0193115;-105.261067
X-APPLE-STRUCTURED-LOCATION;VALUE=URI;X-ADDRESS=Carsen Theater Walnut Street Boulder Colorado 80302 United States;X-APPLE-RADIUS=500;X-TITLE=Walnut Street:geo:-105.261067,40.0193115
END:VEVENT
BEGIN:VEVENT
DTSTART;TZID=America/Denver:20261009T190000
DTEND;TZID=America/Denver:20261009T203000
DTSTAMP:20260423T055036
CREATED:20260422T175107Z
LAST-MODIFIED:20260422T175107Z
UID:10007977-1791572400-1791577800@thedairy.org
SUMMARY:Boulder Ensemble Theatre Company (BETC): The Weir | Oct. 8 - Nov. 1
DESCRIPTION:Content is protected.
URL:https://thedairy.org/event/boulder-ensemble-theatre-company-betc-the-weir-oct-8-nov-1/2026-10-09/
LOCATION:Carsen Theater\, Walnut Street\, Boulder\, Colorado\, 80302\, United States
CATEGORIES:Theater
GEO:40.0193115;-105.261067
X-APPLE-STRUCTURED-LOCATION;VALUE=URI;X-ADDRESS=Carsen Theater Walnut Street Boulder Colorado 80302 United States;X-APPLE-RADIUS=500;X-TITLE=Walnut Street:geo:-105.261067,40.0193115
END:VEVENT
BEGIN:VEVENT
DTSTART;TZID=America/Denver:20261010T190000
DTEND;TZID=America/Denver:20261010T203000
DTSTAMP:20260423T055036
CREATED:20260422T175107Z
LAST-MODIFIED:20260422T175107Z
UID:10007978-1791658800-1791664200@thedairy.org
SUMMARY:Boulder Ensemble Theatre Company (BETC): The Weir | Oct. 8 - Nov. 1
DESCRIPTION:Content is protected.
URL:https://thedairy.org/event/boulder-ensemble-theatre-company-betc-the-weir-oct-8-nov-1/2026-10-10/
LOCATION:Carsen Theater\, Walnut Street\, Boulder\, Colorado\, 80302\, United States
CATEGORIES:Theater
GEO:40.0193115;-105.261067
X-APPLE-STRUCTURED-LOCATION;VALUE=URI;X-ADDRESS=Carsen Theater Walnut Street Boulder Colorado 80302 United States;X-APPLE-RADIUS=500;X-TITLE=Walnut Street:geo:-105.261067,40.0193115
END:VEVENT
BEGIN:VEVENT
DTSTART;TZID=America/Denver:20261011T140000
DTEND;TZID=America/Denver:20261011T153000
DTSTAMP:20260423T055036
CREATED:20260422T175107Z
LAST-MODIFIED:20260422T175107Z
UID:10007979-1791727200-1791732600@thedairy.org
SUMMARY:Boulder Ensemble Theatre Company (BETC): The Weir | Oct. 8 - Nov. 1
DESCRIPTION:Content is protected.
URL:https://thedairy.org/event/boulder-ensemble-theatre-company-betc-the-weir-oct-8-nov-1/2026-10-11/
LOCATION:Carsen Theater\, Walnut Street\, Boulder\, Colorado\, 80302\, United States
CATEGORIES:Theater
GEO:40.0193115;-105.261067
X-APPLE-STRUCTURED-LOCATION;VALUE=URI;X-ADDRESS=Carsen Theater Walnut Street Boulder Colorado 80302 United States;X-APPLE-RADIUS=500;X-TITLE=Walnut Street:geo:-105.261067,40.0193115
END:VEVENT
BEGIN:VEVENT
DTSTART;TZID=America/Denver:20261016T190000
DTEND;TZID=America/Denver:20261016T203000
DTSTAMP:20260423T055036
CREATED:20260422T175107Z
LAST-MODIFIED:20260422T175107Z
UID:10007980-1792177200-1792182600@thedairy.org
SUMMARY:Boulder Ensemble Theatre Company (BETC): The Weir | Oct. 8 - Nov. 1
DESCRIPTION:Content is protected.
URL:https://thedairy.org/event/boulder-ensemble-theatre-company-betc-the-weir-oct-8-nov-1/2026-10-16/
LOCATION:Carsen Theater\, Walnut Street\, Boulder\, Colorado\, 80302\, United States
CATEGORIES:Theater
GEO:40.0193115;-105.261067
X-APPLE-STRUCTURED-LOCATION;VALUE=URI;X-ADDRESS=Carsen Theater Walnut Street Boulder Colorado 80302 United States;X-APPLE-RADIUS=500;X-TITLE=Walnut Street:geo:-105.261067,40.0193115
END:VEVENT
BEGIN:VEVENT
DTSTART;TZID=America/Denver:20261017T140000
DTEND;TZID=America/Denver:20261017T153000
DTSTAMP:20260423T055036
CREATED:20260422T175107Z
LAST-MODIFIED:20260422T175107Z
UID:10007981-1792245600-1792251000@thedairy.org
SUMMARY:Boulder Ensemble Theatre Company (BETC): The Weir | Oct. 8 - Nov. 1
DESCRIPTION:Content is protected.
URL:https://thedairy.org/event/boulder-ensemble-theatre-company-betc-the-weir-oct-8-nov-1/2026-10-17/1/
LOCATION:Carsen Theater\, Walnut Street\, Boulder\, Colorado\, 80302\, United States
CATEGORIES:Theater
GEO:40.0193115;-105.261067
X-APPLE-STRUCTURED-LOCATION;VALUE=URI;X-ADDRESS=Carsen Theater Walnut Street Boulder Colorado 80302 United States;X-APPLE-RADIUS=500;X-TITLE=Walnut Street:geo:-105.261067,40.0193115
END:VEVENT
BEGIN:VEVENT
DTSTART;TZID=America/Denver:20261017T190000
DTEND;TZID=America/Denver:20261017T203000
DTSTAMP:20260423T055036
CREATED:20260422T175107Z
LAST-MODIFIED:20260422T175107Z
UID:10007982-1792263600-1792269000@thedairy.org
SUMMARY:Boulder Ensemble Theatre Company (BETC): The Weir | Oct. 8 - Nov. 1
DESCRIPTION:Content is protected.
URL:https://thedairy.org/event/boulder-ensemble-theatre-company-betc-the-weir-oct-8-nov-1/2026-10-17/2/
LOCATION:Carsen Theater\, Walnut Street\, Boulder\, Colorado\, 80302\, United States
CATEGORIES:Theater
GEO:40.0193115;-105.261067
X-APPLE-STRUCTURED-LOCATION;VALUE=URI;X-ADDRESS=Carsen Theater Walnut Street Boulder Colorado 80302 United States;X-APPLE-RADIUS=500;X-TITLE=Walnut Street:geo:-105.261067,40.0193115
END:VEVENT
BEGIN:VEVENT
DTSTART;TZID=America/Denver:20261018T140000
DTEND;TZID=America/Denver:20261018T153000
DTSTAMP:20260423T055036
CREATED:20260422T175107Z
LAST-MODIFIED:20260422T175107Z
UID:10007983-1792332000-1792337400@thedairy.org
SUMMARY:Boulder Ensemble Theatre Company (BETC): The Weir | Oct. 8 - Nov. 1
DESCRIPTION:Content is protected.
URL:https://thedairy.org/event/boulder-ensemble-theatre-company-betc-the-weir-oct-8-nov-1/2026-10-18/
LOCATION:Carsen Theater\, Walnut Street\, Boulder\, Colorado\, 80302\, United States
CATEGORIES:Theater
GEO:40.0193115;-105.261067
X-APPLE-STRUCTURED-LOCATION;VALUE=URI;X-ADDRESS=Carsen Theater Walnut Street Boulder Colorado 80302 United States;X-APPLE-RADIUS=500;X-TITLE=Walnut Street:geo:-105.261067,40.0193115
END:VEVENT
BEGIN:VEVENT
DTSTART;TZID=America/Denver:20261023T190000
DTEND;TZID=America/Denver:20261023T203000
DTSTAMP:20260423T055036
CREATED:20260422T175107Z
LAST-MODIFIED:20260422T175107Z
UID:10007984-1792782000-1792787400@thedairy.org
SUMMARY:Boulder Ensemble Theatre Company (BETC): The Weir | Oct. 8 - Nov. 1
DESCRIPTION:Content is protected.
URL:https://thedairy.org/event/boulder-ensemble-theatre-company-betc-the-weir-oct-8-nov-1/2026-10-23/
LOCATION:Carsen Theater\, Walnut Street\, Boulder\, Colorado\, 80302\, United States
CATEGORIES:Theater
GEO:40.0193115;-105.261067
X-APPLE-STRUCTURED-LOCATION;VALUE=URI;X-ADDRESS=Carsen Theater Walnut Street Boulder Colorado 80302 United States;X-APPLE-RADIUS=500;X-TITLE=Walnut Street:geo:-105.261067,40.0193115
END:VEVENT
BEGIN:VEVENT
DTSTART;TZID=America/Denver:20261024T140000
DTEND;TZID=America/Denver:20261024T153000
DTSTAMP:20260423T055036
CREATED:20260422T175107Z
LAST-MODIFIED:20260422T175107Z
UID:10007985-1792850400-1792855800@thedairy.org
SUMMARY:Boulder Ensemble Theatre Company (BETC): The Weir | Oct. 8 - Nov. 1
DESCRIPTION:Content is protected.
URL:https://thedairy.org/event/boulder-ensemble-theatre-company-betc-the-weir-oct-8-nov-1/2026-10-24/1/
LOCATION:Carsen Theater\, Walnut Street\, Boulder\, Colorado\, 80302\, United States
CATEGORIES:Theater
GEO:40.0193115;-105.261067
X-APPLE-STRUCTURED-LOCATION;VALUE=URI;X-ADDRESS=Carsen Theater Walnut Street Boulder Colorado 80302 United States;X-APPLE-RADIUS=500;X-TITLE=Walnut Street:geo:-105.261067,40.0193115
END:VEVENT
BEGIN:VEVENT
DTSTART;TZID=America/Denver:20261024T190000
DTEND;TZID=America/Denver:20261024T203000
DTSTAMP:20260423T055036
CREATED:20260422T175107Z
LAST-MODIFIED:20260422T175107Z
UID:10007986-1792868400-1792873800@thedairy.org
SUMMARY:Boulder Ensemble Theatre Company (BETC): The Weir | Oct. 8 - Nov. 1
DESCRIPTION:Content is protected.
URL:https://thedairy.org/event/boulder-ensemble-theatre-company-betc-the-weir-oct-8-nov-1/2026-10-24/2/
LOCATION:Carsen Theater\, Walnut Street\, Boulder\, Colorado\, 80302\, United States
CATEGORIES:Theater
GEO:40.0193115;-105.261067
X-APPLE-STRUCTURED-LOCATION;VALUE=URI;X-ADDRESS=Carsen Theater Walnut Street Boulder Colorado 80302 United States;X-APPLE-RADIUS=500;X-TITLE=Walnut Street:geo:-105.261067,40.0193115
END:VEVENT
BEGIN:VEVENT
DTSTART;TZID=America/Denver:20261025T140000
DTEND;TZID=America/Denver:20261025T153000
DTSTAMP:20260423T055036
CREATED:20260422T175107Z
LAST-MODIFIED:20260422T175107Z
UID:10007987-1792936800-1792942200@thedairy.org
SUMMARY:Boulder Ensemble Theatre Company (BETC): The Weir | Oct. 8 - Nov. 1
DESCRIPTION:Content is protected.
URL:https://thedairy.org/event/boulder-ensemble-theatre-company-betc-the-weir-oct-8-nov-1/2026-10-25/
LOCATION:Carsen Theater\, Walnut Street\, Boulder\, Colorado\, 80302\, United States
CATEGORIES:Theater
GEO:40.0193115;-105.261067
X-APPLE-STRUCTURED-LOCATION;VALUE=URI;X-ADDRESS=Carsen Theater Walnut Street Boulder Colorado 80302 United States;X-APPLE-RADIUS=500;X-TITLE=Walnut Street:geo:-105.261067,40.0193115
END:VEVENT
BEGIN:VEVENT
DTSTART;TZID=America/Denver:20261030T190000
DTEND;TZID=America/Denver:20261030T203000
DTSTAMP:20260423T055036
CREATED:20260422T175107Z
LAST-MODIFIED:20260422T175107Z
UID:10007988-1793386800-1793392200@thedairy.org
SUMMARY:Boulder Ensemble Theatre Company (BETC): The Weir | Oct. 8 - Nov. 1
DESCRIPTION:Content is protected.
URL:https://thedairy.org/event/boulder-ensemble-theatre-company-betc-the-weir-oct-8-nov-1/2026-10-30/
LOCATION:Carsen Theater\, Walnut Street\, Boulder\, Colorado\, 80302\, United States
CATEGORIES:Theater
GEO:40.0193115;-105.261067
X-APPLE-STRUCTURED-LOCATION;VALUE=URI;X-ADDRESS=Carsen Theater Walnut Street Boulder Colorado 80302 United States;X-APPLE-RADIUS=500;X-TITLE=Walnut Street:geo:-105.261067,40.0193115
END:VEVENT
BEGIN:VEVENT
DTSTART;TZID=America/Denver:20261031T140000
DTEND;TZID=America/Denver:20261031T153000
DTSTAMP:20260423T055036
CREATED:20260422T175107Z
LAST-MODIFIED:20260422T175107Z
UID:10007989-1793455200-1793460600@thedairy.org
SUMMARY:Boulder Ensemble Theatre Company (BETC): The Weir | Oct. 8 - Nov. 1
DESCRIPTION:Content is protected.
URL:https://thedairy.org/event/boulder-ensemble-theatre-company-betc-the-weir-oct-8-nov-1/2026-10-31/1/
LOCATION:Carsen Theater\, Walnut Street\, Boulder\, Colorado\, 80302\, United States
CATEGORIES:Theater
GEO:40.0193115;-105.261067
X-APPLE-STRUCTURED-LOCATION;VALUE=URI;X-ADDRESS=Carsen Theater Walnut Street Boulder Colorado 80302 United States;X-APPLE-RADIUS=500;X-TITLE=Walnut Street:geo:-105.261067,40.0193115
END:VEVENT
BEGIN:VEVENT
DTSTART;TZID=America/Denver:20261031T190000
DTEND;TZID=America/Denver:20261031T203000
DTSTAMP:20260423T055036
CREATED:20260422T175107Z
LAST-MODIFIED:20260422T175107Z
UID:10007990-1793473200-1793478600@thedairy.org
SUMMARY:Boulder Ensemble Theatre Company (BETC): The Weir | Oct. 8 - Nov. 1
DESCRIPTION:Content is protected.
URL:https://thedairy.org/event/boulder-ensemble-theatre-company-betc-the-weir-oct-8-nov-1/2026-10-31/2/
LOCATION:Carsen Theater\, Walnut Street\, Boulder\, Colorado\, 80302\, United States
CATEGORIES:Theater
GEO:40.0193115;-105.261067
X-APPLE-STRUCTURED-LOCATION;VALUE=URI;X-ADDRESS=Carsen Theater Walnut Street Boulder Colorado 80302 United States;X-APPLE-RADIUS=500;X-TITLE=Walnut Street:geo:-105.261067,40.0193115
END:VEVENT
BEGIN:VEVENT
DTSTART;TZID=America/Denver:20261101T140000
DTEND;TZID=America/Denver:20261101T153000
DTSTAMP:20260423T055036
CREATED:20260422T175107Z
LAST-MODIFIED:20260422T175107Z
UID:10007991-1793541600-1793547000@thedairy.org
SUMMARY:Boulder Ensemble Theatre Company (BETC): The Weir | Oct. 8 - Nov. 1
DESCRIPTION:Content is protected.
URL:https://thedairy.org/event/boulder-ensemble-theatre-company-betc-the-weir-oct-8-nov-1/2026-11-01/
LOCATION:Carsen Theater\, Walnut Street\, Boulder\, Colorado\, 80302\, United States
CATEGORIES:Theater
GEO:40.0193115;-105.261067
X-APPLE-STRUCTURED-LOCATION;VALUE=URI;X-ADDRESS=Carsen Theater Walnut Street Boulder Colorado 80302 United States;X-APPLE-RADIUS=500;X-TITLE=Walnut Street:geo:-105.261067,40.0193115
END:VEVENT
END:VCALENDAR