BEGIN:VCALENDAR
VERSION:2.0
PRODID:-//Dairy Arts Center - ECPv6.15.20//NONSGML v1.0//EN
CALSCALE:GREGORIAN
METHOD:PUBLISH
X-ORIGINAL-URL:https://thedairy.org
X-WR-CALDESC:Events for Dairy Arts Center
REFRESH-INTERVAL;VALUE=DURATION:PT1H
X-Robots-Tag:noindex
X-PUBLISHED-TTL:PT1H
BEGIN:VTIMEZONE
TZID:America/Denver
BEGIN:DAYLIGHT
TZOFFSETFROM:-0700
TZOFFSETTO:-0600
TZNAME:MDT
DTSTART:20250309T090000
END:DAYLIGHT
BEGIN:STANDARD
TZOFFSETFROM:-0600
TZOFFSETTO:-0700
TZNAME:MST
DTSTART:20251102T080000
END:STANDARD
BEGIN:DAYLIGHT
TZOFFSETFROM:-0700
TZOFFSETTO:-0600
TZNAME:MDT
DTSTART:20260308T090000
END:DAYLIGHT
BEGIN:STANDARD
TZOFFSETFROM:-0600
TZOFFSETTO:-0700
TZNAME:MST
DTSTART:20261101T080000
END:STANDARD
BEGIN:DAYLIGHT
TZOFFSETFROM:-0700
TZOFFSETTO:-0600
TZNAME:MDT
DTSTART:20270314T090000
END:DAYLIGHT
BEGIN:STANDARD
TZOFFSETFROM:-0600
TZOFFSETTO:-0700
TZNAME:MST
DTSTART:20271107T080000
END:STANDARD
END:VTIMEZONE
BEGIN:VEVENT
DTSTART;TZID=America/Denver:20260522T190000
DTEND;TZID=America/Denver:20260522T203000
DTSTAMP:20260419T185322
CREATED:20250430T212636Z
LAST-MODIFIED:20260324T235301Z
UID:10006492-1779476400-1779481800@thedairy.org
SUMMARY:BETC: Mary Jane | May 1-24
DESCRIPTION:TICKETS\nRegional Premiere \nA single mom’s life is turned upside down by her child’s chronic illness. Abandoned by her husband\, she faces reality with a sunny determination that borders on denial. \nA story of a mother’s unbounded love and the makeshift circle of women who support her\, Mary Jane is a beautiful testament to endurance and human kindness in the face of tragedy. \nThe New York Times calls Mary Jane “the most profound and harrowing of all Amy Herzog plays…a character study and everywoman story.”
URL:https://thedairy.org/event/betc-mary-jane/2026-05-22/
LOCATION:Grace Gamm Theatre\, Walnut Street\, Boulder\, CO\, 80302\, United States
CATEGORIES:Theater
ATTACH;FMTTYPE=image/jpeg:https://media.thedairy.org/wp-content/uploads/2025/04/02134806/BETC-MaryJane-1080x1080-1.jpg
GEO:40.0193115;-105.261067
X-APPLE-STRUCTURED-LOCATION;VALUE=URI;X-ADDRESS=Grace Gamm Theatre Walnut Street Boulder CO 80302 United States;X-APPLE-RADIUS=500;X-TITLE=Walnut Street:geo:-105.261067,40.0193115
END:VEVENT
BEGIN:VEVENT
DTSTART;TZID=America/Denver:20260522T190000
DTEND;TZID=America/Denver:20260522T210000
DTSTAMP:20260419T185322
CREATED:20260309T164659Z
LAST-MODIFIED:20260309T164700Z
UID:10007752-1779476400-1779483600@thedairy.org
SUMMARY:Viva Theater: Silent Sky | May 22 - June 7\, 2026
DESCRIPTION:TICKETS\nSilent Sky is the true story of Henrietta Leavitt and her team of female astronomers at the Harvard Observatory during the early years of the 20th century. Though unrecognized in her time by the male-dominated world of science\, Henrietta changed the way we see the universe. \nThis beautiful and luminous play is written by Lauren Gunderson\, one of the most produced playwrights in the country. Silent Sky is filled with humor\, math\, music\, and the profound mysteries of the stars. \nPeople needing special or ADA seating: please call the box office when purchasing a ticket to request accommodation.
URL:https://thedairy.org/event/viva-theater-silent-sky-may-22-june-7-2026/2026-05-22/
LOCATION:Carsen Theater\, Walnut Street\, Boulder\, Colorado\, 80302\, United States
CATEGORIES:Theater
ATTACH;FMTTYPE=image/jpeg:https://media.thedairy.org/wp-content/uploads/2026/03/09103840/Silent-Sky-2-1080x1350-brighter-main-image.jpg
GEO:40.0193115;-105.261067
X-APPLE-STRUCTURED-LOCATION;VALUE=URI;X-ADDRESS=Carsen Theater Walnut Street Boulder Colorado 80302 United States;X-APPLE-RADIUS=500;X-TITLE=Walnut Street:geo:-105.261067,40.0193115
END:VEVENT
BEGIN:VEVENT
DTSTART;TZID=America/Denver:20260624T180000
DTEND;TZID=America/Denver:20260624T190000
DTSTAMP:20260419T185322
CREATED:20260318T154300Z
LAST-MODIFIED:20260318T162020Z
UID:10007832-1782324000-1782327600@thedairy.org
SUMMARY:13 Fires | June 24 - 26
DESCRIPTION:TICKETS\nA powerful new community theater production\, 13 Fires\, will bring the story of one of America’s great Black cultural districts to the stage in Boulder this season in celebration of Juneteenth. The play tells the story of Indiana Avenue in Indianapolis—once a thriving Black neighborhood filled with jazz clubs\, Black-owned businesses and the pioneering entrepreneur Madam C. J. Walker\, and legendary performers such as Ella Fitzgerald and Duke Ellington. \nThen the neighborhood was almost completely wiped out. \n13 Fires explores how Indiana Avenue was dismantled during the expansion of Indiana University–Purdue University Indianapolis\, when property acquisitions\, eminent domain threats\, redlining\, and rising taxes forced families out of the homes and community they had built. Through intimate storytelling and memories of the Avenue’s golden era\, the play confronts the human cost of development and displacement. \nWhile the story unfolds in Indianapolis\, the production speaks directly to ongoing conversations about housing\, belonging\, and community change in Boulder and across Colorado. \nPresented during the Juneteenth season\, 13 Fires is a moving reflection on culture\, displacement\, and the enduring spirit of a people determined to keep their stories alive.
URL:https://thedairy.org/event/13-fires-june-24-26/2026-06-24/
LOCATION:Grace Gamm Theatre\, Walnut Street\, Boulder\, CO\, 80302\, United States
CATEGORIES:Theater
ATTACH;FMTTYPE=image/png:https://media.thedairy.org/wp-content/uploads/2026/03/18094137/Website-Event-Image-13-Fires-1.png
GEO:40.0193115;-105.261067
X-APPLE-STRUCTURED-LOCATION;VALUE=URI;X-ADDRESS=Grace Gamm Theatre Walnut Street Boulder CO 80302 United States;X-APPLE-RADIUS=500;X-TITLE=Walnut Street:geo:-105.261067,40.0193115
END:VEVENT
END:VCALENDAR