BEGIN:VCALENDAR
VERSION:2.0
PRODID:-//Dairy Arts Center - ECPv6.15.20//NONSGML v1.0//EN
CALSCALE:GREGORIAN
METHOD:PUBLISH
X-ORIGINAL-URL:https://thedairy.org
X-WR-CALDESC:Events for Dairy Arts Center
REFRESH-INTERVAL;VALUE=DURATION:PT1H
X-Robots-Tag:noindex
X-PUBLISHED-TTL:PT1H
BEGIN:VTIMEZONE
TZID:America/Denver
BEGIN:DAYLIGHT
TZOFFSETFROM:-0700
TZOFFSETTO:-0600
TZNAME:MDT
DTSTART:20250309T090000
END:DAYLIGHT
BEGIN:STANDARD
TZOFFSETFROM:-0600
TZOFFSETTO:-0700
TZNAME:MST
DTSTART:20251102T080000
END:STANDARD
BEGIN:DAYLIGHT
TZOFFSETFROM:-0700
TZOFFSETTO:-0600
TZNAME:MDT
DTSTART:20260308T090000
END:DAYLIGHT
BEGIN:STANDARD
TZOFFSETFROM:-0600
TZOFFSETTO:-0700
TZNAME:MST
DTSTART:20261101T080000
END:STANDARD
BEGIN:DAYLIGHT
TZOFFSETFROM:-0700
TZOFFSETTO:-0600
TZNAME:MDT
DTSTART:20270314T090000
END:DAYLIGHT
BEGIN:STANDARD
TZOFFSETFROM:-0600
TZOFFSETTO:-0700
TZNAME:MST
DTSTART:20271107T080000
END:STANDARD
END:VTIMEZONE
BEGIN:VEVENT
DTSTART;TZID=America/Denver:20260520T190000
DTEND;TZID=America/Denver:20260520T210000
DTSTAMP:20260419T141645
CREATED:20260413T184519Z
LAST-MODIFIED:20260413T184520Z
UID:10007925-1779303600-1779310800@thedairy.org
SUMMARY:Amrum
DESCRIPTION:TICKETS\nMay 20-24 \nIt is the Spring of 1945 on the German island of Amrum\, a remote outpost in the North Sea. The front is far away\, and 12-year-old Nanning (newcomer Jasper Billerbeck) spends his days working the nearby farm and his nights fishing\, helping his mother to feed their family. Despite the hardship\, life on the beautiful\, windswept isle seems idyllic. When their anti-fascist neighbor Tessa (Diane Kruger) mentions to Nanning that the war will soon be over\, the boy – too young to understand the political implications – is pleased to imagine that his father\, a Nazi officer\, might soon be coming home. But his mother Hille (Laura Tonke) is a true believer\, and word of Germany’s imminent defeat sends her into decline. One day from her sick bed\, she wishes for white bread\, butter and honey\, near impossible luxuries on Amrum which Nanning innocently tries to find for her. But as he sets off on his quest\, he learns from his neighbors that the enemy is far closer than he imagined. (Fatih Akin\, 2025\, Germany\, 1:33\, NR) \n\n 
URL:https://thedairy.org/event/amrum/2026-05-20/
LOCATION:Boedecker Theater\, Walnut Street\, Boulder\, CO\, 80302\, United States
CATEGORIES:Cinema
ATTACH;FMTTYPE=image/jpeg:https://media.thedairy.org/wp-content/uploads/2026/04/13124240/Amrum_poster_KL_2025x3000-scaled.jpg
GEO:40.0193115;-105.261067
X-APPLE-STRUCTURED-LOCATION;VALUE=URI;X-ADDRESS=Boedecker Theater Walnut Street Boulder CO 80302 United States;X-APPLE-RADIUS=500;X-TITLE=Walnut Street:geo:-105.261067,40.0193115
END:VEVENT
BEGIN:VEVENT
DTSTART;TZID=America/Denver:20260521T120000
DTEND;TZID=America/Denver:20260521T151500
DTSTAMP:20260419T141645
CREATED:20260128T232338Z
LAST-MODIFIED:20260130T224634Z
UID:10007645-1779364800-1779376500@thedairy.org
SUMMARY:Creative Connections: 60s Folk Sing-Along and Screening of Oh Brother Where Art Thou
DESCRIPTION:TICKETS\nJoin us for an afternoon of music\, memories\, and movie fun – Sing Along with songs by Woody Guthrie\, Bob Dylan\, Joan Baez and more. We’ll start with a live guitarist leading a folk revival-themed sing-along\, followed by a private screening of O Brother\, Where Art Thou? (2000) on the big screen. \nThis free event is part of the Dairy Arts Center’s Creative Connections Series\, designed to bring older adults together through shared arts experiences that inspire joy and connection. \nSchedule: \n12:00–12:50 PM – Folk Revival Sing-Along (Dairy Lobby) \n1:00–3:00 PM – O Brother\, Where Art Thou? Screening (Boedecker Theater) \nIn partnership with Circle of Care Project \nMobilizing the Arts and Culture to Enrich the Lives of Older Adults
URL:https://thedairy.org/event/creative-connections-60s-folk-sing-along-and-screening-of-oh-brother-where-art-thou/
LOCATION:Boedecker Theater\, Walnut Street\, Boulder\, CO\, 80302\, United States
CATEGORIES:Adult Ed,Cinema,Creative Connections,Music
ATTACH;FMTTYPE=image/jpeg:https://media.thedairy.org/wp-content/uploads/2026/01/28162255/Oh-Brother-Where-Art-Thou.jpg
GEO:40.0193115;-105.261067
X-APPLE-STRUCTURED-LOCATION;VALUE=URI;X-ADDRESS=Boedecker Theater Walnut Street Boulder CO 80302 United States;X-APPLE-RADIUS=500;X-TITLE=Walnut Street:geo:-105.261067,40.0193115
END:VEVENT
BEGIN:VEVENT
DTSTART;TZID=America/Denver:20260522T203000
DTEND;TZID=America/Denver:20260522T224500
DTSTAMP:20260419T141646
CREATED:20260413T191326Z
LAST-MODIFIED:20260413T191327Z
UID:10007942-1779481800-1779489900@thedairy.org
SUMMARY:Friday Night Weird: Blades of the Guardians
DESCRIPTION:TICKETS\nMay 22 \nThis is a new martial arts epic directed by legendary action choreographer Yeun Woo-Ping (The Matrix\, Crouching Tiger Hidden Dragon\, Kill Bill)  starring Wu Jing\, Jet Li\, Nicholas Tse\, and Yosh Yu. Dao Ma\, a bounty hunter\, takes a job to protect a man on the long road to the city of Chang’an. However\, he discovers the person he is protecting is the empire’s most wanted bounty\, Zhi Shi Lang. Now\, every greedy faction is after them. (Yuen Woo-Ping\, 2026\, China\, 2:06\, NR)
URL:https://thedairy.org/event/friday-night-weird-blades-of-the-guardians/
LOCATION:Boedecker Theater\, Walnut Street\, Boulder\, CO\, 80302\, United States
CATEGORIES:Cinema,Friday Night Weird
ATTACH;FMTTYPE=image/jpeg:https://media.thedairy.org/wp-content/uploads/2026/04/13131227/BladesoftheGuardians.jpg
GEO:40.0193115;-105.261067
X-APPLE-STRUCTURED-LOCATION;VALUE=URI;X-ADDRESS=Boedecker Theater Walnut Street Boulder CO 80302 United States;X-APPLE-RADIUS=500;X-TITLE=Walnut Street:geo:-105.261067,40.0193115
END:VEVENT
BEGIN:VEVENT
DTSTART;TZID=America/Denver:20260527T163000
DTEND;TZID=America/Denver:20260527T180000
DTSTAMP:20260419T141646
CREATED:20260413T185128Z
LAST-MODIFIED:20260413T185129Z
UID:10007930-1779899400-1779904800@thedairy.org
SUMMARY:Blue Heron
DESCRIPTION:TICKETS\nMay 27-31 \nIn the late 1990s\, eight-year-old Sasha and her family relocate to a new home on Vancouver Island\, but their fresh start is interrupted by increasingly dangerous behavior from the eldest son\, Jeremy. At wit’s end\, their parents are presented with a shattering choice. Award-winning director Sophy Romvari’s feature debut is a lyrical and profound testament to the things we carry with us\, masterfully chronicling the haze of a languid summer and the hyaline clarity of the moments that defined it. (Sophy Romvari\, 2026\, Canada\, 1:30\, NR)
URL:https://thedairy.org/event/blue-heron/2026-05-27/
LOCATION:Boedecker Theater\, Walnut Street\, Boulder\, CO\, 80302\, United States
CATEGORIES:Cinema
ATTACH;FMTTYPE=image/jpeg:https://media.thedairy.org/wp-content/uploads/2026/04/13124857/BLUE_HERON_No_Logo_Poster_Janus_27x40_tp_r-2-scaled.jpeg
GEO:40.0193115;-105.261067
X-APPLE-STRUCTURED-LOCATION;VALUE=URI;X-ADDRESS=Boedecker Theater Walnut Street Boulder CO 80302 United States;X-APPLE-RADIUS=500;X-TITLE=Walnut Street:geo:-105.261067,40.0193115
END:VEVENT
BEGIN:VEVENT
DTSTART;TZID=America/Denver:20260527T190000
DTEND;TZID=America/Denver:20260527T210000
DTSTAMP:20260419T141646
CREATED:20260413T185810Z
LAST-MODIFIED:20260413T185811Z
UID:10007935-1779908400-1779915600@thedairy.org
SUMMARY:Space Cowboy
DESCRIPTION:TICKETS\nMay 27-31 \nJoe Jennings\, an innovator in the world of skydiving\, has spent decades capturing breathtaking aerial moments with his camera for extreme sports competitions\, Super Bowl commercials\, and Hollywood blockbusters. Driven by a passion for “camera flying” in his youth\, Joe cultivated a deep friendship with fellow skydiver Rob Harris\, partnering to become one of the most influential skysurfing teams in history. Flying at the top of their game\, Joe’s world was shattered when tragedy struck\, leaving him to navigate the skies alone. Never giving up\, he continued to push the boundaries of aerial cinematography and skydiving\, finding solace in the clouds while grappling with profound grief and depression. Now\, at 62\, this pioneering skydiver is taking on a new challenge\, elevating his art with a daring “flying car” stunt. Directors Marah Strauch (SUNSHINE SUPERMAN) and Bryce Leavitt delve into Joe’s extraordinary 40-year career in the sky. Through stunning archival footage\, revealing interviews\, and dramatic verité\, they uncover a deeper emotional journey as Joe navigates loss\, depression\, and the challenge of balancing a life in the sky with the realities on the ground. (Bryce Leavitt & Marah Strauch\, 2024\, USA\, 1:38\, NR)
URL:https://thedairy.org/event/space-cowboy/2026-05-27/
LOCATION:Boedecker Theater\, Walnut Street\, Boulder\, CO\, 80302\, United States
CATEGORIES:Cinema
ATTACH;FMTTYPE=image/jpeg:https://thedairy.org/wp-content/uploads/2026/04/SpaceCowboy_KeyArt-27x40_HiRes2.jpeg
GEO:40.0193115;-105.261067
X-APPLE-STRUCTURED-LOCATION;VALUE=URI;X-ADDRESS=Boedecker Theater Walnut Street Boulder CO 80302 United States;X-APPLE-RADIUS=500;X-TITLE=Walnut Street:geo:-105.261067,40.0193115
END:VEVENT
BEGIN:VEVENT
DTSTART;TZID=America/Denver:20260529T203000
DTEND;TZID=America/Denver:20260529T223000
DTSTAMP:20260419T141646
CREATED:20260413T191802Z
LAST-MODIFIED:20260413T191802Z
UID:10007943-1780086600-1780093800@thedairy.org
SUMMARY:Friday Night Weird: Forbidden Fruits
DESCRIPTION:TICKETS\nMay 29 \nFree Eden employee Apple secretly runs a witchy femme cult in the basement of the mall store after hours with fellow fruits Cherry and Fig. But when new hire Pumpkin challenges their performative sisterhood\, the women are forced to face their own poisons or succumb to a bloody fate. (Meredith Alloway\, 2026\, USA\, 1:43\, R) \n\n 
URL:https://thedairy.org/event/friday-night-weird-forbidden-fruits/
LOCATION:Boedecker Theater\, Walnut Street\, Boulder\, CO\, 80302\, United States
CATEGORIES:Cinema,Friday Night Weird
ATTACH;FMTTYPE=image/png:https://media.thedairy.org/wp-content/uploads/2026/04/13131710/FORBIDDEN-FRUITS-Official-Poster-med2.png
GEO:40.0193115;-105.261067
X-APPLE-STRUCTURED-LOCATION;VALUE=URI;X-ADDRESS=Boedecker Theater Walnut Street Boulder CO 80302 United States;X-APPLE-RADIUS=500;X-TITLE=Walnut Street:geo:-105.261067,40.0193115
END:VEVENT
END:VCALENDAR