BEGIN:VCALENDAR
VERSION:2.0
PRODID:-//Dairy Arts Center - ECPv6.15.20//NONSGML v1.0//EN
CALSCALE:GREGORIAN
METHOD:PUBLISH
X-WR-CALNAME:Dairy Arts Center
X-ORIGINAL-URL:https://thedairy.org
X-WR-CALDESC:Events for Dairy Arts Center
REFRESH-INTERVAL;VALUE=DURATION:PT1H
X-Robots-Tag:noindex
X-PUBLISHED-TTL:PT1H
BEGIN:VTIMEZONE
TZID:America/Denver
BEGIN:DAYLIGHT
TZOFFSETFROM:-0700
TZOFFSETTO:-0600
TZNAME:MDT
DTSTART:20250309T090000
END:DAYLIGHT
BEGIN:STANDARD
TZOFFSETFROM:-0600
TZOFFSETTO:-0700
TZNAME:MST
DTSTART:20251102T080000
END:STANDARD
BEGIN:DAYLIGHT
TZOFFSETFROM:-0700
TZOFFSETTO:-0600
TZNAME:MDT
DTSTART:20260308T090000
END:DAYLIGHT
BEGIN:STANDARD
TZOFFSETFROM:-0600
TZOFFSETTO:-0700
TZNAME:MST
DTSTART:20261101T080000
END:STANDARD
BEGIN:DAYLIGHT
TZOFFSETFROM:-0700
TZOFFSETTO:-0600
TZNAME:MDT
DTSTART:20270314T090000
END:DAYLIGHT
BEGIN:STANDARD
TZOFFSETFROM:-0600
TZOFFSETTO:-0700
TZNAME:MST
DTSTART:20271107T080000
END:STANDARD
END:VTIMEZONE
BEGIN:VEVENT
DTSTART;TZID=America/Denver:20260424T153000
DTEND;TZID=America/Denver:20260424T173000
DTSTAMP:20260424T065007
CREATED:20260309T175142Z
LAST-MODIFIED:20260422T230028Z
UID:10007791-1777044600-1777051800@thedairy.org
SUMMARY:The Love That Remains | Apr 24-26
DESCRIPTION:TICKETS\nApr 24-26 \nAnna\, an artist\, and Magnús\, a fisherman\, live with their three children and charismatic sheepdog in the quiet grandeur of the Icelandic countryside. As the fractures in their marriage come to the surface\, the couple try to hold onto the afterimages of a life together and make sense of a deep and lingering devotion. Filmmaker Hlynur Pálmason (Godland) brings surprising humor and emotional weight to this gorgeous\, intimate\, and brilliantly expansive scenes from a marriage\, amidst the majestic backdrop of the changing seasons. (Hlynur Pálmason\, 2025\, Iceland\, 1:49\, NR)
URL:https://thedairy.org/event/the-love-that-remains-apr-24-26/2026-04-24/
LOCATION:Boedecker Theater\, Walnut Street\, Boulder\, CO\, 80302\, United States
CATEGORIES:Cinema,Subtitled
ATTACH;FMTTYPE=image/png:https://media.thedairy.org/wp-content/uploads/2026/03/09115004/LoveThatRemains.png
GEO:40.0193115;-105.261067
X-APPLE-STRUCTURED-LOCATION;VALUE=URI;X-ADDRESS=Boedecker Theater Walnut Street Boulder CO 80302 United States;X-APPLE-RADIUS=500;X-TITLE=Walnut Street:geo:-105.261067,40.0193115
END:VEVENT
BEGIN:VEVENT
DTSTART;TZID=America/Denver:20260424T180000
DTEND;TZID=America/Denver:20260424T193000
DTSTAMP:20260424T065007
CREATED:20260309T175624Z
LAST-MODIFIED:20260422T230332Z
UID:10007794-1777053600-1777059000@thedairy.org
SUMMARY:La Scala: The Force of Destiny | Apr 24-26
DESCRIPTION:TICKETS\nApr 24-26 \nThe film documents the preparation of La Forza del Destino\, Verdi’s masterpiece\, which opened La Scala’s 2024 season. From the initial rehearsals to the premier\, award-winning director Anissa Bonnefont chronicles the world class cast of singers (Soprano Anna Netrebko\, Barytone Ludovic Tézier\, Tenor Brian Jagde)\, the Maestro\, Riccardo Chailly and the stage director\, Leo Muscato\, along with the nine hundred artisans\, dancers\, musicians and technicians who ceaselessly toil until the world’s most iconic season opening. (Anissa Bonnefont\, 2025\, France/Italy\, 1:32\, NR)
URL:https://thedairy.org/event/la-scala-the-force-of-destiny-apr-24-26/2026-04-24/
LOCATION:Boedecker Theater\, Walnut Street\, Boulder\, CO\, 80302\, United States
CATEGORIES:Cinema,Subtitled
ATTACH;FMTTYPE=image/jpeg:https://media.thedairy.org/wp-content/uploads/2026/03/09115506/ForceofDestiny.jpg
GEO:40.0193115;-105.261067
X-APPLE-STRUCTURED-LOCATION;VALUE=URI;X-ADDRESS=Boedecker Theater Walnut Street Boulder CO 80302 United States;X-APPLE-RADIUS=500;X-TITLE=Walnut Street:geo:-105.261067,40.0193115
END:VEVENT
BEGIN:VEVENT
DTSTART;TZID=America/Denver:20260424T193000
DTEND;TZID=America/Denver:20260424T213000
DTSTAMP:20260424T065007
CREATED:20260205T170109Z
LAST-MODIFIED:20260205T170110Z
UID:10007652-1777059000-1777066200@thedairy.org
SUMMARY:Zikr Dance Ensemble presents "Runes"
DESCRIPTION:TICKETS\n​Showcasing an international cast of world-class dancers\, Zikr Dance Ensemble’s 2026 Spring Season\, “Runes”\, will explore the power and transformative energies of some of history’s most iconic symbols and the light code language of the future. \nZikr will also reprise internationally acclaimed Belgian choreographer Sidi Larbi Cherkaoui’s stunning “In Memoriam” pas de deux\, along with Tomm Ruud’s iconic miniature masterpiece\, “Mobile”\, and Zikr’s signature work and audience favorite\, “In Your Eyes”.
URL:https://thedairy.org/event/zikr-dance-ensemble-presents-runes/
LOCATION:Gordon Gamm Theater\, Walnut Street\, Boulder\, CO\, 80302\, United States
CATEGORIES:Dance
ATTACH;FMTTYPE=image/jpeg:https://media.thedairy.org/wp-content/uploads/2026/02/05100032/Image-2-4-26-at-2.45a_%C2%AFPM.jpg
GEO:40.0193115;-105.261067
X-APPLE-STRUCTURED-LOCATION;VALUE=URI;X-ADDRESS=Gordon Gamm Theater Walnut Street Boulder CO 80302 United States;X-APPLE-RADIUS=500;X-TITLE=Walnut Street:geo:-105.261067,40.0193115
END:VEVENT
BEGIN:VEVENT
DTSTART;TZID=America/Denver:20260424T203000
DTEND;TZID=America/Denver:20260424T230000
DTSTAMP:20260424T065007
CREATED:20260318T183107Z
LAST-MODIFIED:20260402T174425Z
UID:10007835-1777062600-1777071600@thedairy.org
SUMMARY:Cinema Youth Advisory Board presents: Everything Everywhere All at Once
DESCRIPTION:TICKETS\n  \nThe Cinema Youth Advisory Board presents Everything Everywhere All at Once\, a mind-bending\, genre-defying ride through parallel worlds\, identity\, and connection. In collaboration with the BVSD Student Exhibition’s “Third Eye” gallery\, this screening taps into themes of unseen realities\, alternate selves\, and the idea that there’s more beneath the surface than we can immediately see. \n  \nAbout Everything Everywhere All at Once:  \nWhen an interdimensional rupture unravels reality\, an unlikely hero must channel her newfound powers to fight bizarre and bewildering dangers from the multiverse as the fate of the world hangs in the balance. (Daniel Scheinert\, Daniel Kwan\, 2022\, United States\, 2:19)
URL:https://thedairy.org/event/cinema-youth-advisory-board-presents-everything-everywhere-all-at-once/
LOCATION:Boedecker Theater\, Walnut Street\, Boulder\, CO\, 80302\, United States
CATEGORIES:Cinema
ATTACH;FMTTYPE=image/png:https://media.thedairy.org/wp-content/uploads/2026/03/18122819/EEAAO.png
GEO:40.0193115;-105.261067
X-APPLE-STRUCTURED-LOCATION;VALUE=URI;X-ADDRESS=Boedecker Theater Walnut Street Boulder CO 80302 United States;X-APPLE-RADIUS=500;X-TITLE=Walnut Street:geo:-105.261067,40.0193115
END:VEVENT
END:VCALENDAR